BEGIN:VCALENDAR
VERSION:2.0
PRODID:-//radek.tv - ECPv6.15.20//NONSGML v1.0//EN
CALSCALE:GREGORIAN
METHOD:PUBLISH
X-WR-CALNAME:radek.tv
X-ORIGINAL-URL:https://radek.tv
X-WR-CALDESC:Wydarzenia dla radek.tv
REFRESH-INTERVAL;VALUE=DURATION:PT1H
X-Robots-Tag:noindex
X-PUBLISHED-TTL:PT1H
BEGIN:VTIMEZONE
TZID:UTC
BEGIN:STANDARD
TZOFFSETFROM:+0000
TZOFFSETTO:+0000
TZNAME:UTC
DTSTART:20210101T000000
END:STANDARD
END:VTIMEZONE
BEGIN:VEVENT
DTSTART;TZID=UTC:20220127T190000
DTEND;TZID=UTC:20220127T210000
DTSTAMP:20260421T144730
CREATED:20220119T151436Z
LAST-MODIFIED:20220119T151436Z
UID:290-1643310000-1643317200@radek.tv
SUMMARY:ZŁOTE zasady i reguły DOBREGO wideo - Wideoninja
DESCRIPTION:Już 27 stycznia (czwartek) odbędzie się szkolenie na żywo / webinar\, w którym przedstawię Ci złote zasady i reguły tworzenia wideo.\n\nBędzie dużo wartościowej wiedzy\, zero lania wody. Prosto i konkretnie.\nCałość poprowadzę w ten sposób\, aby wszystkie porady były uniwersalne. W ten sposób z całą pewnością zastosujesz je we własnych produkcjach.\n\nWydarzenie FB: https://fb.me/e/1steMHdoj
URL:https://radek.tv/wydarzenie/zlote-zasady-i-reguly-dobrego-wideo-wideoninja/
CATEGORIES:Kalendarz online - Radek.TV
ATTACH;FMTTYPE=image/jpeg:https://radek.tv/wp-content/uploads/2022/01/Wideoninja.jpg
END:VEVENT
END:VCALENDAR